Workbook

Sheet AUDIT SUMMARY
B2: Infection Prevention & Control Environmental Audit Tool 2024 for General Practice (Version 1 July 2024)
B3: (Adapted from Infection Prevention Society Tool for General Practitioner Settings - Quality Improvement Tool v2 2016)
B6: GP Practice: | C6: Commonfield Road | E6: Standards Audited: | F6: Current % score
B7: Address: | C7: 156 Commonfield Road, CH49 7LP | E7: General/Staff Knowledge | F7: ='General-Staff Knowledge'!C33 -> 85
B8: Practice Manager: | C8: Mandy Horrocks | E8: General - Environment | F8: ='General Environment'!C28 -> 100
B9: Accompanied By: | C9: Jayne Hennesey | E9: General - Toys/Books | F9: N/A
B10: Date of Audit: | C10: 45995 | E10: General - Domestic Room | F10: ='General Domestic Room'!C30 -> 76.470588
B11: Audit Completed By: | C11: Claire Sherratt, Senior Infection Prevention & Control Nurse | E11: Treatment Room - Clinical | F11: ='Treatment Room Clinical Room'!C54 -> 95
B12: Date Audit Report Completed: | C12: 46007 | E12: Personal Protective Equipment | F12: =PPE!C40 -> 100
E13: Transportation of Specimens | F13: ='Transportation of Specimens'!C17 -> 100
E14: Sharps Handling & Disposal | F14: ='Sharps Handling & Disposal'!C29 -> 87.5
E15: Vaccine Transportation & Storage | F15: ='Vaccine Transportation Storage'!C45 -> 100
E16: Dirty Utility/Sluice | F16: N/A
E17: Kitchen/Chilled Water | F17: N/A
E18: Storeroom & Equipment Storage | F18: ='Storeroom & Equipment Storage'!C45 -> 88.888889
B19: Audit Scoring Key: | E19: Baby Changing Facilities | F19: ='Baby Changing Facilities'!C30 -> 100
B20: Good Compliance | C20: 95 - 100% | E20: Patient Toilets | F20: ='Patient Toilets'!C26 -> 100
B21: Action Required | C21: 80 - 94% | E21: Linen | F21: N/A
B22: Urgent Action/ Improvement Required | C22: 79% and below | E22: Overall Score | F22: =SUM(F7:F21)/11 -> 93.896316

Sheet General-Staff Knowledge
A1: 1. General/Staff Knowledge
A3: Question Number | B3: Statement | C3: Yes/No/NA | D3: Comments | E3: Actions (To be completed by Practice Manager) | F3: Date of Completion (To be completed by Practice Manager)
A4: 1 | B4: Does this GP practice have a designated person responsible leading on IPC who completes audits and monitors regularly? e.g., GP setting manager? | C4: Yes
A5: 2 | B5: Is there clear information about when and how to contact the IPC service? including out of hours? | C5: Yes
A6: 3 | B6: Is there evidence of a process /agenda for reporting IPC risks/untoward incidence in practice significant event meetings? | C6: Yes
A7: 4 | B7: Have practice audits been undertaken and improvements made? Are recent action plans with a proposed date in progress/completed? | C7: No | D7: Although no self audits have been undertaken since the last visit from IPC service in 2022, the action plan has been reviewed and improvements reported (N.B recent management change). It is advised that the GP practice undertake an annual IPC self audit to monitor IPC standards.
A8: 5 | B8: Have staff in this GP setting been offered immunisation as per current national guidance? | C8: Yes
A9: 6 | B9: Are practice staff aware of and compliant with the policy of being absent from work when they are potentially infectious? | C9: Yes
A10: 7 | B10: Do staff know what to do if they or a colleague sustains an inoculation injury? | C10: Yes
A11: 8 | B11: Have all staff in this GP setting received IPC induction training and up to date with IPC mandatory training? | C11: Yes
A12: 9 | B12: Do staff (if appropriate to their job role) receive training in aseptic technique? | C12: No | D12: Staff who employed by the practice have previously had training. GP practice to introduce Aseptic training.
A13: 10 | B13: Do staff know how to decontaminate a blood or bodily fluid spillage safely? | C13: Yes
A14: 11 | B14: Are all disinfectants including spill kits locked away in a COSHH approved cupboard? | C14: Yes
A15: 12 | B15: Do staff know the symbol used to indicate single use? | C15: Yes
A16: 13 | B16: Are single-use items used once and then discarded? | C16: Yes
A17: 14 | B17: Are staff adhering to bare below the elbow? | C17: No | D17: All clinical staff to required to be bare below the elbow.
A18: 15 | B18: Are staff aware of the items of equipment for which they are responsible for cleaning? | C18: Yes
A19: 16 | B19: Is all equipment included within the departments cleaning checklist? | C19: Yes
A20: 17 | B20: Are outside waste containers or storage waste compound areas kept clean and tidy without evidence of vermin and or inappropriate items? | C20: Yes
A21: 18 | B21: Are patients provided with appropriate containers for specimens to be obtained at home? | C21: Yes
A22: 19 | B22: Is there a process in place to review specimen results to ensure that patients are receiving appropriate antibiotic treatment? | C22: Yes
A23: 20 | B23: Are staff aware when not to undertake dipstick urinalysis of urine for the diagnosis of UTIs ? | C23: Yes | D23: Due to the GP practice having no sluice facilities dipstick urinalysis is undertaken in clinical rooms (if required). Advise that a risk assessment is undertaken for the safe management of bodily fluids.
B25: Yes | C25: =COUNTIF(C4:C23,"Yes") -> 17
B26: No | C26: =COUNTIF(C4:C23,"No") -> 3
B27: N/A | C27: =COUNTIF(C4:C23,"N/A") -> 0
B29: Yes & No | C29: =C25+C26 -> 20
B33: % Audit Score General/Staff Knowledge | C33: =C25/C29*100 -> 85

Sheet General Environment
A1: 2. General Environment
A3: Question Number | B3: Statement | C3: Yes/No/NA | D3: Comments | E3: Actions (To be completed by Practice Manager) | F3: Date of Completion (To be completed by Practice Manager)
A4: 1 | B4: Is the general environment suitable i.e. sufficient space and layout? | C4: Yes
A5: 2 | B5: Is there access to alcohol-based hand rub near reception? | C5: Yes
A6: 3 | B6: Are all furnishings and fittings visibly clean? | C6: Yes
A7: 4 | B7: Are all furnishings and fittings in a good state of repair? | C7: Yes
A8: 5 | B8: Are all surfaces smooth, impervious (for easy cleaning)? | C8: Yes
A9: 6 | B9: Is the floor visibly clean? | C9: Yes
A10: 7 | B10: Is the flooring in a good state of repair? | C10: Yes
A11: 8 | B11: Is the environment tidy and uncluttered? | C11: Yes
A12: 9 | B12: Are other items e.g., TV screens, computer screens, telephones clean/cleanable and in good condition? | C12: Yes
A13: 10
A14: 11
A15: 12
A16: 13
A17: 14
A18: 15
A19: 16
B21: Yes | C21: =COUNTIF(C4:C19,"Yes") -> 9
B22: No | C22: =COUNTIF(C4:C19,"No") -> 0
B23: N/A | C23: =COUNTIF(C4:C19,"N/A") -> 0
B25: Yes & No | C25: =C21+C22 -> 9
B28: % Audit Score General Environment | C28: =C21/C25*100 -> 100

Sheet General Toys Books
A1: 3. General Toys/Books
A3: Question Number | B3: Statement | C3: Yes/No/NA | D3: Comments | E3: Actions (To be completed by Practice Manager) | F3: Date of Completion (To be completed by Practice Manager)
A4: 1 | B4: Is the play area visibly clean? Cleanable and in good state of repair? | C4: N/A
A5: 2 | B5: Are all toys/books included on cleaning schedules? | C5: N/A
A6: 3 | B6: Are all toys/books visibly clean, cleanable and in good condition? | C6: N/A
A7: 4 | B7: Are toys/books when not in use stored in a designated storage area? | C7: N/A
A8: 5
A9: 6
A10: 7
A11: 8
A12: 9
A13: 10
A14: 11
A15: 12
A16: 13
A17: 14
A18: 15
A19: 16
B23: Yes | C23: =COUNTIF(C4:C19,"Yes") -> 0
B24: No | C24: =COUNTIF(C4:C19,"No") -> 0
B25: N/A | C25: =COUNTIF(C4:C19,"N/A") -> 4
B27: Yes & No | C27: =C23+C24 -> 0
B32: % Audit Score General Toys/Books | C32: =C23/C27*100 -> #DIV/0!

Sheet General Domestic Room
A1: 4. General Domestic Room
A3: Question Number | B3: Statement | C3: Yes/No/NA | D3: Comments | E3: Actions (To be completed by Practice Manager) | F3: Date of Completion (To be completed by Practice Manager)
A4: 1 | B4: Is the domestic room suitable given the items requiring storage and the procedures performed in there? | C4: Yes
A5: 2 | B5: Is the domestic room including floors, furnishings and fittings and its contents, clean, in good condition, tidy and free from clutter? | C5: Yes
A6: 3 | B6: Is there a disposal unit for the disposal of contaminated wastewater in the domestic room? | C6: No | D6: Advise a risk assessment is completed.
A7: 4 | B7: Is the unit for the disposal of contaminated wastewater visibly clean? | C7: N/A
A8: 5 | B8: Are mops and buckets, mop bucket ringers stored clean, dry and mops stored inverted? | C8: No
A9: 6 | B9: Are mop heads laundered after use or disposable? | C9: Yes
A10: 7 | B10: Is there a colour coding system in place for cleaning equipment/environment? | C10: Yes
A11: 8 | B11: Is cleaning equipment and machinery left clean and dry after use? | C11: N/A | D11: Not observed during visit.
A12: 9 | B12: Are any unused/cleaned items stored such that they are free from any likely splash contamination? | C12: Yes
A13: 10 | B13: Are cleaning cloths laundered after use or disposable or microfibre used in line with manufacturers instructions? | C13: Yes | D13: single use
A14: 11 | B14: Is there a low level facility for staff to fill buckets with water for cleaning? | C14: No | D14: Kitchen sink or nurses rooms used. Advise a risk assessment is completed.
A15: 12 | B15: Are waste bags filled up to ¾ full and capable of being tied/secured? | C15: Yes
A16: 13 | B16: Are waste bags labelled before storage? | C16: Yes
A17: 14 | B17: Are full waste bags stored in a designated safe, lockable area? | C17: Yes
A18: 15 | B18: Are cleaning schedules completed, signed and up to date with frequencies and responsibilities identified? | C18: No | D18: Not available to view at time of audit.
A19: 16 | B19: Do the domestic staff have access to appropriate PPE? | C19: Yes
A20: 17 | B20: Is there easy access to handwash facilities either within the room or close by? | C20: Yes
A21: 18 | B21: Is there a poster reminding staff of correct procedures including colour coding? | C21: Yes
A22: 19 | B22: Are cleaning and disinfectant products available? | C22: Yes
B24: Yes | C24: =COUNTIF(C4:C22,"Yes") -> 13
B25: No | C25: =COUNTIF(C4:C22,"No") -> 4
B26: N/A | C26: =COUNTIF(C4:C22,"N/A") -> 2
B28: Yes & No | C28: =C24+C25 -> 17
B30: % Audit Score General Domestic Room | C30: =C24/C28*100 -> 76.470588

Sheet Treatment Room Clinical Room
A1: 5. Treatment Room Clinical
A3: Question Number | B3: Statement | C3: Yes/No/NA | D3: Comments | E3: Actions (To be completed by Practice Manager) | F3: Date of Completion (To be completed by Practice Manager)
A4: 1 | B4: Are all furnishings and fittings visibly clean, in a good state of repair? | C4: No | D4: Consultation room 4: high dust to curtain rail and cupboard.
A5: 2 | B5: Are all surfaces smooth, impervious (for easy cleaning)? | C5: Yes
A6: 3 | B6: Is the floor visibly clean? | C6: Yes
A7: 4 | B7: Is the flooring in a good state of repair minimising infection risk ? | C7: Yes
A8: 5 | B8: Is the environment tidy and uncluttered? | C8: Yes
A9: 6 | B9: Is there a designated hand wash basin used for handwashing only? Is the hand wash basin clean, in good condition and devoid of extraneous items? NB: All rooms used as clinical to have hand wash basin present. | C9: Yes | D9: Ensure handwash basin is free from extraneous items.
A10: 7 | B10: Is the handwash basin easily accessible to users? | C10: Yes
A11: 8 | B11: Is the basin of a safe design i.e plug free, overflow free, waste offset from tap flow, providing water at a comfortable temperature (ie mixer taps or thermostatically controlled), elbow operated or paper towels used to turn off taps? | C11: Yes | D11: Nurses consultation rooms : in addition to hand hygiene basins there are metal sinks, it was reported that these sinks are not used and water safety checks are undertaken by the cleaning service.
A12: 9 | B12: Is the soap dispensed from a single use cartridge? | C12: Yes
A13: 10 | B13: Is the liquid soap dispenser wall mounted and containing soap? | C13: Yes
A14: 11 | B14: Is the soap dispenser visibly clean? | C14: Yes
A15: 12 | B15: Are paper towels available from an enclosed dispenser? | C15: Yes
A16: 13 | B16: Is the paper towel dispenser visibly clean and containing paper towels? | C16: Yes
A17: 14 | B17: Is there a laminated hand hygiene poster displayed? | C17: Yes
A18: 15 | B18: Are all posters laminated and wipeable? | C18: Yes
A19: 16 | B19: Is alcohol-based hand rub available at the point of care? | C19: Yes
A20: 17 | B20: Are alcohol-based hand rub containers visibly clean? | C20: Yes
A21: 18 | B21: Are there facilities available for the correct disposal of domestic/offensive/infectious waste? | C21: Yes
A22: 19 | B22: Are the bins clean, in good condition, not overfilled and operated by a hands free system? | C22: Yes
A23: 20 | B23: Is waste segregated correctly? | C23: Yes
... A38: 35 | B38: Any instruments are requiring autoclave are they stored in a rigid, lidded container and labelled correctly? | C38: N/A
A39: 36 | B39: Is all equipment i.e. stethoscopes, Blood pressure monitoring, doppler machines clean/cleanable and in good state of repair? | C39: No | D39: Manual sphygmomanometer dusty.
A40: 37 | B40: Is all this equipment cleaned in between patient use? | C40: Yes
A41: 38 | B41: Are spillage kits available for use on body fluid spillages? | C41: Yes
A42: 39 | B42: Are single use tourniquets visibly clean? | C42: Yes
A43: 40 | B43: Is there an equipment cleaning checklist that is completed and up to date? | C43: Yes
A44: 41 | B44: Are staff aware of the cleaning schedules and where they are kept? | C44: Yes
A45: 42 | B45: Are detergent /disinfected wipes approved wipes/cleaning materials available for decontamination of equipment between patient use? | C45: Yes
B47: Yes | C47: =COUNTIF(C4:C45,"Yes") -> 38
B48: No | C48: =COUNTIF(C4:C45,"No") -> 2
B49: N/A | C49: =COUNTIF(C4:C45,"N/A") -> 2
B51: Yes & No | C51: =C47+C48 -> 40
B54: % Audit Score Treatment Room - Clinical Room | C54: =C47/C51*100 -> 95

Sheet PPE
A1: 6. Personal Protective Equipment
A3: Question Number | B3: Statement | C3: Yes/No/NA | D3: Comments | E3: Actions (To be completed by Practice Manager) | F3: Date of Completion (To be completed by Practice Manager)
A4: 1 | B4: Are single use gloves (in a range of sizes) available? | C4: Yes
A5: 2 | B5: Are single use plastic aprons (or gowns if required) available? | C5: Yes
A6: 3 | B6: Are all PPE stored appropriately away from the risk of contamination? | C6: Yes
A7: 4 | B7: Is eye protection available if required? | C7: Yes
A8: 5 | B8: Are fluid resistant facemasks available? | C8: Yes
A9: 6 | B9: Are FFP3 masks available if required? | C9: Yes
A10: 7 | B10: Is all PPE used once and then discarded after each use? | C10: Yes
A11: 8 | B11: Is PPE changed between tasks on the same patient? | C11: Yes
A12: 9 | B12: Does the GP practice comply with UKHSA/ guidance for PPE? | C12: Yes
A13: 10 | B13: Are staff confident in knowing when and what PPE to wear? | C13: Yes
A14: 11 | B14: Are staff observed to put on and remove PPE correctly? | C14: N/A
A15: 12 | B15: Is hand hygiene performed following removal of PPE? | C15: Yes
A16: 13
A17: 14
A18: 15
A19: 16
A20: 17
A21: 18
A22: 19
A23: 20
A24: 21
A25: 22
A26: 23
A27: 24
... A32: 29
B34: Yes | C34: =COUNTIF(C4:C32,"Yes") -> 11
B35: No | C35: =COUNTIF(C4:C32,"No") -> 0
B36: N/A | C36: =COUNTIF(C4:C32,"N/A") -> 1
B38: Yes & No | C38: =C34+C35 -> 11
B40: % Audit Score PPE | C40: =C34/C38*100 -> 100

Sheet Transportation of Specimens
A1: 7. Transportation of Specimens
A3: Question Number | B3: Statement | C3: Yes/No/NA | D3: Comments | E3: Actions (To be completed by Practice Manager) | F3: Date of Completion (To be completed by Practice Manager)
A4: 1 | B4: Is there a procedure for the safe handling of clinical specimens which includes: the collection, labelling, storage pre-collection and transportation of clinical specimens? | C4: Yes
A5: 2 | B5: Have staff who secure and send laboratory specimens received training on the safe handling? | C5: Yes
A6: 3 | B6: Are specimens in appropriate containers and packaging? | C6: Yes
A7: 4 | B7: Are specimens awaiting collection stored appropriate, away from public and staff rest rooms/areas? | C7: Yes
A8: 5 | B8: Is there a designated specimen fridge used only for specimens? | C8: Yes | D8: Available if required.
A9: 6 | B9: Are specimen collection envelopes /transport boxes visibly clean? | C9: N/A
B11: Yes | C11: =COUNTIF(C4:C9,"Yes") -> 5
B12: No | C12: =COUNTIF(C4:C9,"No") -> 0
B13: N/A | C13: =COUNTIF(C4:C9,"N/A") -> 1
B15: Yes & No | C15: =C11+C12 -> 5
B17: % Audit Score Transportation of Specimens | C17: =C11/C15*100 -> 100

Sheet Sharps Handling & Disposal
A1: 8. Sharps Handling & Disposal
A3: Question Number | B3: Statement | C3: Yes/No/NA | D3: Comments | E3: Actions (To be completed by Practice Manager) | F3: Date of Completion (To be completed by Practice Manager)
A4: 1 | B4: Do the sharps containers conform to BS7320 (1990) / UN3291 standards? | C4: Yes
A5: 2 | B5: Are sharps containers assembled correctly? | C5: Yes
A6: 3 | B6: Are all sharps containers labelled or tagged with date, locality and a signature on assembly? | C6: Yes
A7: 4 | B7: Are all sharps containers free from protruding sharps? | C7: Yes
A8: 5 | B8: There are no inappropriate items in the sharps container? | C8: Yes
A9: 6 | B9: Are the contents of all sharps containers below the `fill line`? | C9: Yes
A10: 7 | B10: Are in use sharps containers safely positioned and out of reach of vulnerable people? | C10: Yes
A11: 8 | B11: Are sharps container closure lids temporarily closed in between use? | C11: No
A12: 9 | B12: Are sharps disposed of safely and at the point of use? | C12: Yes
A13: 10 | B13: Are sharps disposed correctly via the correct colour coded stream? | C13: No
A14: 11 | B14: Are used needles and syringes discarded as a complete single unit? | C14: Yes
A15: 12 | B15: Are used sharps disposed of without re-sheathing? | C15: Yes
... A19: 16 | B19: Are needle safety devices used where appropriate? | C19: Yes
A20: 18
A21: 19
A22: 14
B23: Yes | C23: =COUNTIF(C4:C21,"Yes") -> 14
B24: No | C24: =COUNTIF(C4:C21,"No") -> 2
B25: N/A | C25: =COUNTIF(C4:C21,"N/A") -> 0
B27: Yes & No | C27: =C23+C24 -> 16
B29: % Audit Score Sharps Handling & Disposal | C29: =C23/C27*100 -> 87.5

Sheet Vaccine Transportation Storage
A1: 9. Vaccine Transportation & Storage
A3: Question Number | B3: Statement | C3: Yes/No/NA | D3: Comments | E3: Actions (To be completed by Practice Manager) | F3: Date of Completion (To be completed by Practice Manager)
A4: 1 | B4: Is there a policy/procedure for the safe receipt, storage and transportation of vaccines? | C4: Yes
A5: 2 | B5: Is there a policy for remedial action if vaccines are stored outside of the manufacturers recommended temperature ranges? i.e., 2- 8 degrees | C5: Yes
A6: 3 | B6: Is an audit undertaken annually of the entire vaccine process (receipt, storage, transportation, and usage)? | C6: Yes
A7: 4 | B7: Is there a named individual who is responsible for receiving & storing vaccines? | C7: Yes
A8: 5 | B8: Is there a named individual / deputy who is responsible for receiving & storing vaccines? | C8: Yes
A9: 6 | B9: Are all vaccines when delivered checked against the delivery note? | C9: Yes
A10: 7 | B10: Are vaccines placed immediately in a designated vaccine refrigerator on delivery? | C10: Yes
A11: 8 | B11: Are vaccine types, quantities, batch numbers, expiry dates and date and time received recorded? | C11: Yes
A12: 9 | B12: Are vaccines stored in a designated fridge, which is fit for purpose i.e. not domestic model? | C12: Yes
A13: 10 | B13: Does the refrigerator have an uninterrupted electrical supply or where not practical to do so is the plug identified as being for a drug fridge and therefore not to be switched off? | C13: Yes
A14: 11 | B14: Is the refrigerator situated away from a heat source and is air able to freely circulate around it? | C14: Yes
A15: 12 | B15: Are the contents evenly distributed within the refrigerator to allow air to circulate? | C15: Yes
... A34: 31 | B34: Have all staff who receive and store vaccines received training (including maintenance of the cold chain)? | C34: Yes
A35: 32
A36: 33
A37: 34
B39: Yes | C39: =COUNTIF(C4:C37,"Yes") -> 31
B40: No | C40: =COUNTIF(C4:C37,"No") -> 0
B41: N/A | C41: =COUNTIF(C4:C37,"N/A") -> 0
B43: Yes & No | C43: =C39+C40 -> 31
B45: % Audit Score Vaccine Transportation/Storage | C45: =C39/C43*100 -> 100

Sheet Dirty Utility Sluice
A1: 10. Dirty Utility & Sluice
A3: Question Number | B3: Statement | C3: Yes/No/NA | D3: Comments | E3: Actions (To be completed by Practice Manager) | F3: Date of Completion (To be completed by Practice Manager)
A4: 1 | B4: Is a sluice room available? | C4: N/A
A5: 2 | B5: Is the floor, walls and all surfaces, clean, cleanable and in good condition? | C5: N/A
A6: 3 | B6: Is the environment free from clutter? | C6: N/A
A7: 4 | B7: Are appropriate cleaning material and disinfectants available? | C7: N/A
A8: 5 | B8: Is there an equipment cleaning sink (not used for hand hygiene)? | C8: N/A
A9: 6 | B9: Is there a dedicated hand wash basin? | C9: N/A
A10: 7 | B10: Is the handwash basin easily accessible to users? | C10: N/A
A11: 8 | B11: Is the basin of a safe design i.e plug free, overflow free, waste offset from tap flow, providing water at a comfortable temperature (ie mixer taps or thermostatically controlled), elbow operated or paper towels used to turn off taps? | C11: N/A
A12: 9 | B12: Is the hand wash basin clean, in good condition and devoid of extraneous items? | C12: N/A
A13: 10 | B13: Is the soap dispensed from a single use cartridge? | C13: N/A
A14: 11 | B14: Is the liquid soap dispenser wall mounted and containing soap? | C14: N/A
A15: 12 | B15: Is the soap dispenser visibly clean? | C15: N/A
... A25: 22 | B25: Is the waste segregated correctly? | C25: N/A
A26: 23
B28: Yes | C28: =COUNTIF(C4:C26,"Yes") -> 0
B29: No | C29: =COUNTIF(C4:C26,"No") -> 0
B30: N/A | C30: =COUNTIF(C4:C26,"N/A") -> 22
B32: Yes & No | C32: =C28+C29 -> 0
B34: % Audit Score Dirty Utility/Sluice | C34: =C28/C32*100 -> #DIV/0!

Sheet Kitchen Chilled Water
A1: 11. Kitchen/Chilled Water
A3: Question Number | B3: Statement | C3: Yes/No/NA | D3: Comments | E3: Actions (To be completed by Practice Manager) | F3: Date of Completion (To be completed by Practice Manager)
A4: 1 | B4: Has the chilled water machine been connected from a mains supply? | C4: N/A
A5: 2 | B5: Are the instructions for the correct use and maintenance of chilled-water or ice-making machines available? | C5: N/A
A6: 3 | B6: Is the water cooler/ice machine clean, cleaned in line with manufacturer’s instructions and subject to planned maintenance? | C6: N/A
B8: Yes | C8: =COUNTIF(C4:C6,"Yes") -> 0
B9: No | C9: =COUNTIF(C4:C6,"No") -> 0
B10: N/A | C10: =COUNTIF(C4:C6,"N/A") -> 3
B12: Yes & No | C12: =C8+C9 -> 0
B14: % Audit Score Kitchen/Chilled Water | C14: =C8/C12*100 -> #DIV/0!

Sheet Storeroom & Equipment Storage
A1: 12. Storeroom & Equipment Storage
A3: Question Number | B3: Statement | C3: Yes/No/NA | D3: Comments | E3: Actions (To be completed by Practice Manager) | F3: Date of Completion (To be completed by Practice Manager)
A4: 1 | B4: Is the storeroom sufficient for all items? | C4: Yes
A5: 2 | B5: Is the environment including floor visibly clean, cleanable and in good condition? | C5: No | D5: Store room on 1st floor.
A6: 3 | B6: Is the storeroom free from clutter? | C6: Yes
A7: 4 | B7: Are all items in the storeroom stored away from any possible splash contamination and protected from dust? | C7: Yes
A8: 5 | B8: Are all items stored above floor level apart from items designed to be placed on the floor? | C8: Yes
A9: 6 | B9: Are all items of equipment clean? | C9: Yes
A10: 7 | B10: Is all equipment in good condition? | C10: Yes
A11: 8 | B11: Marked clean for the next patient use? | C11: N/A
A12: 9 | B12: Are sterile items undamaged and within expiry date? | C12: Yes
A13: 10 | B13: Are sterile items stored away from splash contamination? | C13: Yes
A14: 12
A15: 13
A16: 14
A17: 15
A18: 16
A19: 17
A20: 18
A21: 19
A22: 20
A23: 21
A24: 22
A25: 23
... A37: 35
B39: Yes | C39: =COUNTIF(C4:C37,"Yes") -> 8
B40: No | C40: =COUNTIF(C4:C37,"No") -> 1
B41: N/A | C41: =COUNTIF(C4:C37,"N/A") -> 1
B43: Yes & No | C43: =C39+C40 -> 9
B45: % Audit Score Storeroom & Storage of Equipment | C45: =C39/C43*100 -> 88.888889

Sheet Baby Changing Facilities
A1: 13. Baby Changing Facilities
A3: Question Number | B3: Statement | C3: Yes/No/NA | D3: Comments | E3: Actions (To be completed by Practice Manager) | F3: Date of Completion (To be completed by Practice Manager)
A4: 1 | B4: Is the baby changing room, including floor, clean, in good condition? | C4: Yes
A5: 2 | B5: Is baby changing equipment in good condition and clean? | C5: Yes
A6: 3 | B6: Is there information displayed for parents on how to clean the baby changing area afterwards? | C6: Yes
A7: 4 | B7: Are cleaning materials for parents available? | C7: Yes
A8: 5 | B8: Is there a dedicated hand washing sink? | C8: Yes
A9: 6 | B9: Are hand hygiene products readily available including liquid soap and paper towels | C9: Yes
A10: 7 | B10: Is a laminated hand hygiene poster available? | C10: Yes
A11: 8 | B11: Are there facilities available for correct disposal of domestic and offensive (if applicable) waste? | C11: Yes
A12: 9 | B12: Is the waste bin, clean, in good condition and hands free operated? | C12: Yes
A13: 10 | B13: Is the area free from extraneous items? | C13: Yes
A14: 11
A15: 12
A16: 13
A17: 14
A18: 15
A19: 16
A20: 17
A21: 18
B23: Yes | C23: =COUNTIF(C4:C21,"Yes") -> 10
B24: No | C24: =COUNTIF(C4:C21,"No") -> 0
B25: N/A | C25: =COUNTIF(C4:C21,"N/A") -> 0
B27: Yes & No | C27: =C23+C24 -> 10
B30: % Audit Score Baby Changing Facilities | C30: =C23/C27*100 -> 100

Sheet Patient Toilets
A1: 14. Patient Toilets
A3: Question Number | B3: Statement | C3: Yes/No/NA | D3: Comments | E3: Actions (To be completed by Practice Manager) | F3: Date of Completion (To be completed by Practice Manager)
A4: 1 | B4: Are all toilet areas, including the floor, visibly clean, clutter free and in good condition? | C4: Yes
A5: 2 | B5: Are toilet brushes and their holders visibly clean? | C5: N/A
A6: 3 | B6: Is there a hand hygiene poster available? | C6: Yes
A7: 4 | B7: Is there a dedicated hand washing sink? | C7: Yes
A8: 5 | B8: Are hand hygiene products readily available including liquid soap and paper towels? | C8: Yes
A9: 6 | B9: Are there facilities available for correct disposal of domestic and offensive waste? | C9: Yes
A10: 8 | B10: Is the waste bin, clean, in good condition and hands free operated? | C10: Yes
A11: 9 | B11: Is the allocated toilet cleaning regime sufficient to maintain toilet cleanliness? | C11: Yes
A12: 10
A13: 11
A14: 12
A15: 13
A16: 14
A17: 15
A18: 16
B20: Yes | C20: =COUNTIF(C4:C18,"Yes") -> 7
B21: No | C21: =COUNTIF(C4:C18,"No") -> 0
B22: N/A | C22: =COUNTIF(C4:C18,"N/A") -> 1
B24: Yes & No | C24: =C20+C21 -> 7
B26: % Audit Score Patient Toilets | C26: =C20/C24*100 -> 100

Sheet Linen
A1: 15. Linen
A3: Question Number | B3: Statement | C3: Yes/No/NA | D3: Comments | E3: Actions (To be completed by Practice Manager) | F3: Date of Completion (To be completed by Practice Manager)
A4: 1 | B4: Is linen used in this area? | C4: N/A
A5: 2 | B5: If so, are areas where clean linen is stored appropriate, in good condition, cleanable and off the floor? | C5: N/A
A6: 3 | B6: Is used linen stored in a designated area where it doesn’t pose an infection risk to others? | C6: N/A
A7: 4 | B7: Is used linen taken to an off-site laundry and NOT washed in clinical areas? | C7: N/A
A8: 5
A9: 6
A10: 7
A11: 8
A12: 9
A13: 10
A14: 11
A15: 12
A16: 13
A17: 14
A18: 15
A19: 16
... A38: 35
B40: Yes | C40: =COUNTIF(C4:C38,"Yes") -> 0
B41: No | C41: =COUNTIF(C4:C38,"No") -> 0
B42: N/A | C42: =COUNTIF(C4:C38,"N/A") -> 4
B44: Yes & No | C44: =C40+C41 -> 0
B46: % Audit Score Linen | C46: =C40/C44*100 -> #DIV/0!

Sheet Validations
A2: Nursing Home
A3: Nursing & Residential Home
A4: Residential Home
A6: Yes
A7: No
A8: N/A
A10: Claire Sherratt
A11: Helen Healey
A12: Helen Wilcox
A13: Laura Peers
A14: Ciara Ramsden
A15: Sarah Deveney
... A19: Karen Clearkin
